BEGIN:VCALENDAR
VERSION:2.0
PRODID:-//Tukios.com/
BEGIN:VEVENT
UID:21e6fc4b-0a3a-4837-8a08-0fd8409595db@www.wilsonmemorialservice.com
DTSTAMP:20260425T214919Z
DTSTART:20260502T140000Z
DTEND:20260502T150000Z
SUMMARY:Visitation
DESCRIPTION:
URL:https://www.wilsonmemorialservice.com/obituaries/gerald-winborne
LOCATION:Nobles Chapel Baptist Church 7330 Old Raleigh Road  Sims NC 
	27880
GEO:35.7373478;-78.0929186
END:VEVENT
END:VCALENDAR