BEGIN:VCALENDAR
VERSION:2.0
PRODID:-//Tukios.com/
BEGIN:VEVENT
UID:d46379ec-481c-4a53-9411-d04a9da57760@www.wilsonmemorialservice.com
DTSTAMP:20260425T214320Z
DTSTART:20260502T150000Z
DTEND:20260502T160000Z
SUMMARY:Celebration of Life
DESCRIPTION:
URL:https://www.wilsonmemorialservice.com/obituaries/gerald-winborne
LOCATION:Nobles Chapel Baptist Church 7330 Old Raleigh Road  Sims NC 
	27880
GEO:35.7373478;-78.0929186
END:VEVENT
END:VCALENDAR