BEGIN:VCALENDAR
VERSION:2.0
PRODID:-//Tukios.com/
BEGIN:VEVENT
UID:b1dc4e70-d8dd-4d1b-ae41-4fcb1ed4da6a@www.wilsonmemorialservice.com
DTSTAMP:20260425T214913Z
DTSTART:20260502T154500Z
DTEND:20260502T164500Z
SUMMARY:Interment
DESCRIPTION:
URL:https://www.wilsonmemorialservice.com/obituaries/gerald-winborne
LOCATION: 7330 Old Raleigh Rd  Sims NC 27880
GEO:35.7373697;-78.0929596
END:VEVENT
END:VCALENDAR