BEGIN:VCALENDAR
VERSION:2.0
PRODID:-//Tukios.com/
BEGIN:VEVENT
UID:c39d757f-ae06-41f2-82ca-b896b21a3636@www.wilsonmemorialservice.com
DTSTAMP:20260422T083757Z
DTSTART:20260417T180000Z
DTEND:20260417T190000Z
SUMMARY:Entombment
DESCRIPTION:
URL:https://www.wilsonmemorialservice.com/obituaries/patsy-vick
LOCATION: 2800 Nash St N  Wilson NC 27896
GEO:35.7636252;-77.9355458
END:VEVENT
END:VCALENDAR